BEGIN:VCALENDAR
VERSION:2.0
PRODID:-//Da Capo Music Studio - ECPv6.15.16//NONSGML v1.0//EN
CALSCALE:GREGORIAN
METHOD:PUBLISH
X-WR-CALNAME:Da Capo Music Studio
X-ORIGINAL-URL:https://dcmusicstudio.com
X-WR-CALDESC:Events for Da Capo Music Studio
REFRESH-INTERVAL;VALUE=DURATION:PT1H
X-Robots-Tag:noindex
X-PUBLISHED-TTL:PT1H
BEGIN:VTIMEZONE
TZID:UTC
BEGIN:STANDARD
TZOFFSETFROM:+0000
TZOFFSETTO:+0000
TZNAME:UTC
DTSTART:20180101T000000
END:STANDARD
END:VTIMEZONE
BEGIN:VEVENT
DTSTART;TZID=UTC:20191019T173000
DTEND;TZID=UTC:20191019T183000
DTSTAMP:20260421T163500
CREATED:20190915T142839Z
LAST-MODIFIED:20190915T142839Z
UID:2368-1571506200-1571509800@dcmusicstudio.com
SUMMARY:Halloween Recital
DESCRIPTION:
URL:https://dcmusicstudio.com/event/halloween-recital-18/
LOCATION:Da Capo – New Studio\, 870 N. Main Street\, Elburn\, IL\, 60119\, United States
CATEGORIES:Da Capo Student Performance,Student Recital
END:VEVENT
BEGIN:VEVENT
DTSTART;TZID=UTC:20191019T160000
DTEND;TZID=UTC:20191019T170000
DTSTAMP:20260421T163500
CREATED:20190915T142809Z
LAST-MODIFIED:20190915T142809Z
UID:2366-1571500800-1571504400@dcmusicstudio.com
SUMMARY:Halloween Recital
DESCRIPTION:
URL:https://dcmusicstudio.com/event/halloween-recital-17/
LOCATION:Da Capo – New Studio\, 870 N. Main Street\, Elburn\, IL\, 60119\, United States
CATEGORIES:Da Capo Student Performance,Student Recital
END:VEVENT
END:VCALENDAR