BEGIN:VCALENDAR
VERSION:2.0
PRODID:-//Da Capo Music Studio - ECPv6.15.16//NONSGML v1.0//EN
CALSCALE:GREGORIAN
METHOD:PUBLISH
X-WR-CALNAME:Da Capo Music Studio
X-ORIGINAL-URL:https://dcmusicstudio.com
X-WR-CALDESC:Events for Da Capo Music Studio
REFRESH-INTERVAL;VALUE=DURATION:PT1H
X-Robots-Tag:noindex
X-PUBLISHED-TTL:PT1H
BEGIN:VTIMEZONE
TZID:UTC
BEGIN:STANDARD
TZOFFSETFROM:+0000
TZOFFSETTO:+0000
TZNAME:UTC
DTSTART:20150101T000000
END:STANDARD
END:VTIMEZONE
BEGIN:VEVENT
DTSTART;TZID=UTC:20181013T150000
DTEND;TZID=UTC:20181013T180000
DTSTAMP:20260419T174524
CREATED:20180813T201805Z
LAST-MODIFIED:20181007T134646Z
UID:1948-1539442800-1539453600@dcmusicstudio.com
SUMMARY:Ribbon Cutting For Our New Studio
DESCRIPTION:
URL:https://dcmusicstudio.com/event/ribbon-cutting/
LOCATION:Da Capo Music Studio\, 870 N. Main Street\, Elburn\, IL\, 60119\, United States
ATTACH;FMTTYPE=image/jpeg:https://dcmusicstudio.com/wp-content/uploads/2018/08/IMG_1253.jpg
END:VEVENT
BEGIN:VEVENT
DTSTART;TZID=UTC:20180729T120000
DTEND;TZID=UTC:20180729T130000
DTSTAMP:20260419T174524
CREATED:20180320T173032Z
LAST-MODIFIED:20180320T173032Z
UID:1778-1532865600-1532869200@dcmusicstudio.com
SUMMARY:Student Recital
DESCRIPTION:
URL:https://dcmusicstudio.com/event/student-recital-6/
LOCATION:Da Capo Music Studio\, 870 N. Main Street\, Elburn\, IL\, 60119\, United States
END:VEVENT
BEGIN:VEVENT
DTSTART;TZID=UTC:20180624T143000
DTEND;TZID=UTC:20180624T153000
DTSTAMP:20260419T174524
CREATED:20180611T151030Z
LAST-MODIFIED:20180611T151030Z
UID:1881-1529850600-1529854200@dcmusicstudio.com
SUMMARY:Student Recital
DESCRIPTION:
URL:https://dcmusicstudio.com/event/student-recital-8/
LOCATION:Da Capo Music Studio\, 870 N. Main Street\, Elburn\, IL\, 60119\, United States
END:VEVENT
BEGIN:VEVENT
DTSTART;TZID=UTC:20180624T130000
DTEND;TZID=UTC:20180624T140000
DTSTAMP:20260419T174524
CREATED:20180611T150956Z
LAST-MODIFIED:20180611T150956Z
UID:1879-1529845200-1529848800@dcmusicstudio.com
SUMMARY:Student Recital
DESCRIPTION:
URL:https://dcmusicstudio.com/event/student-recital-7/
LOCATION:Da Capo Music Studio\, 870 N. Main Street\, Elburn\, IL\, 60119\, United States
END:VEVENT
BEGIN:VEVENT
DTSTART;TZID=UTC:20180624T113000
DTEND;TZID=UTC:20180624T123000
DTSTAMP:20260419T174524
CREATED:20180320T172927Z
LAST-MODIFIED:20180611T150921Z
UID:1776-1529839800-1529843400@dcmusicstudio.com
SUMMARY:Student Recital
DESCRIPTION:
URL:https://dcmusicstudio.com/event/student-recital-5/
LOCATION:Da Capo Music Studio\, 870 N. Main Street\, Elburn\, IL\, 60119\, United States
END:VEVENT
BEGIN:VEVENT
DTSTART;TZID=UTC:20180609T170000
DTEND;TZID=UTC:20180609T180000
DTSTAMP:20260419T174524
CREATED:20180506T134329Z
LAST-MODIFIED:20180517T172649Z
UID:1849-1528563600-1528567200@dcmusicstudio.com
SUMMARY:Rachel Lowe-Solo Flute Recital
DESCRIPTION:Rachel Lowe\, a talented and hard-working flute student\, began studying at Da Capo in 2011. In 2015\, Rachel won the Director’s Award in her 8th Grade Band. She was selected to participate in the ILMEA District Festival in 2014\, 2016\, 2017\, and 2018; and she performed her first solo recital on May 6\, 2017. Her second solo recital is free and open to the public. Free will donations will be accepted and all proceeds will go to the Nate Kok Memorial Scholarship Fund. For more information\, please contact Da Capo at info@dcmusicstudio.com\, 630.777.2955. For more information about the Nate Kok Memorial Scholarship Fund\, please contact the Aurora Christian Schools.
URL:https://dcmusicstudio.com/event/rachel-lowe-solo-flute-recital-2/
LOCATION:Da Capo Music Studio\, 870 N. Main Street\, Elburn\, IL\, 60119\, United States
CATEGORIES:Solo Student Recital
ATTACH;FMTTYPE=image/jpeg:https://dcmusicstudio.com/wp-content/uploads/2018/05/Rachel-Lowe-Pic-1-e1620072590252.jpeg
END:VEVENT
BEGIN:VEVENT
DTSTART;TZID=UTC:20180318T133000
DTEND;TZID=UTC:20180318T143000
DTSTAMP:20260419T174524
CREATED:20180306T140310Z
LAST-MODIFIED:20180306T140310Z
UID:1770-1521379800-1521383400@dcmusicstudio.com
SUMMARY:Student Recital
DESCRIPTION:
URL:https://dcmusicstudio.com/event/student-recital-4/
LOCATION:Da Capo Music Studio\, 870 N. Main Street\, Elburn\, IL\, 60119\, United States
CATEGORIES:Student Recital
END:VEVENT
BEGIN:VEVENT
DTSTART;TZID=UTC:20180318T120000
DTEND;TZID=UTC:20180318T130000
DTSTAMP:20260419T174524
CREATED:20180306T140206Z
LAST-MODIFIED:20180306T140206Z
UID:1768-1521374400-1521378000@dcmusicstudio.com
SUMMARY:Student Recital
DESCRIPTION:
URL:https://dcmusicstudio.com/event/student-recital-3/
LOCATION:IL
END:VEVENT
BEGIN:VEVENT
DTSTART;TZID=UTC:20171217T153000
DTEND;TZID=UTC:20171217T163000
DTSTAMP:20260419T174524
CREATED:20171207T215340Z
LAST-MODIFIED:20171207T215340Z
UID:1728-1513524600-1513528200@dcmusicstudio.com
SUMMARY:Holiday Recital
DESCRIPTION:
URL:https://dcmusicstudio.com/event/holiday-recital-4/
LOCATION:IL
END:VEVENT
BEGIN:VEVENT
DTSTART;TZID=UTC:20171217T133000
DTEND;TZID=UTC:20171217T143000
DTSTAMP:20260419T174524
CREATED:20171207T215229Z
LAST-MODIFIED:20171207T215229Z
UID:1724-1513517400-1513521000@dcmusicstudio.com
SUMMARY:Holiday Recital
DESCRIPTION:
URL:https://dcmusicstudio.com/event/holiday-recital/
LOCATION:IL
END:VEVENT
BEGIN:VEVENT
DTSTART;TZID=UTC:20171217T133000
DTEND;TZID=UTC:20171217T143000
DTSTAMP:20260419T174524
CREATED:20171110T044857Z
LAST-MODIFIED:20171112T225648Z
UID:1591-1513517400-1513521000@dcmusicstudio.com
SUMMARY:Holiday Recital
DESCRIPTION:
URL:https://dcmusicstudio.com/event/holiday-recital-6/
LOCATION:Da Capo Music Studio\, 870 N. Main Street\, Elburn\, IL\, 60119\, United States
CATEGORIES:Student Recital
END:VEVENT
BEGIN:VEVENT
DTSTART;TZID=UTC:20171216T160000
DTEND;TZID=UTC:20171216T170000
DTSTAMP:20260419T174524
CREATED:20171110T044423Z
LAST-MODIFIED:20171112T230052Z
UID:1583-1513440000-1513443600@dcmusicstudio.com
SUMMARY:Holiday Recital
DESCRIPTION:
URL:https://dcmusicstudio.com/event/holiday-recital-2/
LOCATION:Da Capo Music Studio\, 870 N. Main Street\, Elburn\, IL\, 60119\, United States
CATEGORIES:Student Recital
END:VEVENT
BEGIN:VEVENT
DTSTART;TZID=UTC:20171210T120000
DTEND;TZID=UTC:20171210T130000
DTSTAMP:20260419T174524
CREATED:20171110T044616Z
LAST-MODIFIED:20171112T230216Z
UID:1585-1512907200-1512910800@dcmusicstudio.com
SUMMARY:Holiday Recital
DESCRIPTION:
URL:https://dcmusicstudio.com/event/holiday-recital-3/
LOCATION:Da Capo Music Studio\, 870 N. Main Street\, Elburn\, IL\, 60119\, United States
CATEGORIES:Student Recital
END:VEVENT
BEGIN:VEVENT
DTSTART;TZID=UTC:20171111T160000
DTEND;TZID=UTC:20171111T170000
DTSTAMP:20260419T174524
CREATED:20171030T173057Z
LAST-MODIFIED:20171110T050004Z
UID:1423-1510416000-1510419600@dcmusicstudio.com
SUMMARY:Ben Zielinski - Solo Guitar Recital
DESCRIPTION:On Saturday\, November 11 at 4:00 pm\, Da Capo Music Studio in Elburn will host a solo guitar recital to raise money for Convoy of Hope. \nBen Zielinski\, a talented and hard working student\, began studying guitar at Da Capo in January\, 2016. Since then he has performed in 8 student recitals\, and several retirement communities throughout the area. He will be performing selected works by a variety of composers such as J.S. Bach\, Mauro Giuliani\, Fernando Sor\, and Ferdinando Carulli. \nConvoy of Hope\, a faith-based\, nonprofit organization\, has helped more than 80 million people throughout the world by sharing food\, water\, emergency supplies\, agricultural know-how\, and opportunities that empower people to live independent lives\, free from poverty\, disease and hunger. \nThe recital is free and open to the public. Free will donations will be accepted and all proceeds will be given to Convoy of Hope. Da Capo Music Studio is located at 140 East Route 38 Unit C in Elburn. For more information\, please visit our website www.dcmusicstudio.com\, call 630.777.2955. or email info@dcmusicstudio.com
URL:https://dcmusicstudio.com/event/ben-zielinski-solo-guitar-recital/
LOCATION:Da Capo Music Studio\, 870 N. Main Street\, Elburn\, IL\, 60119\, United States
CATEGORIES:Solo Student Recital
ATTACH;FMTTYPE=image/jpeg:https://dcmusicstudio.com/wp-content/uploads/2017/10/IMG_1152.jpg
END:VEVENT
BEGIN:VEVENT
DTSTART;VALUE=DATE:20171030
DTEND;VALUE=DATE:20171101
DTSTAMP:20260419T174524
CREATED:20170923T134357Z
LAST-MODIFIED:20171030T154354Z
UID:948-1509321600-1509494399@dcmusicstudio.com
SUMMARY:Studio Closed
DESCRIPTION:
URL:https://dcmusicstudio.com/event/studio-closed-4/
LOCATION:IL
CATEGORIES:Studio Closings
END:VEVENT
BEGIN:VEVENT
DTSTART;TZID=UTC:20171029T173000
DTEND;TZID=UTC:20171029T183000
DTSTAMP:20260419T174524
CREATED:20170922T164736Z
LAST-MODIFIED:20170922T164736Z
UID:932-1509298200-1509301800@dcmusicstudio.com
SUMMARY:Halloween Recital
DESCRIPTION:
URL:https://dcmusicstudio.com/event/halloween-recital-7/
LOCATION:Da Capo Music Studio\, 870 N. Main Street\, Elburn\, IL\, 60119\, United States
CATEGORIES:Student Recital
END:VEVENT
BEGIN:VEVENT
DTSTART;TZID=UTC:20171029T160000
DTEND;TZID=UTC:20171029T170000
DTSTAMP:20260419T174524
CREATED:20170922T164631Z
LAST-MODIFIED:20170922T164631Z
UID:930-1509292800-1509296400@dcmusicstudio.com
SUMMARY:Halloween Recital
DESCRIPTION:
URL:https://dcmusicstudio.com/event/halloween-recital-6/
LOCATION:Da Capo Music Studio\, 870 N. Main Street\, Elburn\, IL\, 60119\, United States
CATEGORIES:Student Recital
END:VEVENT
BEGIN:VEVENT
DTSTART;TZID=UTC:20171029T133000
DTEND;TZID=UTC:20171029T143000
DTSTAMP:20260419T174524
CREATED:20170922T164549Z
LAST-MODIFIED:20170922T164549Z
UID:928-1509283800-1509287400@dcmusicstudio.com
SUMMARY:Halloween Recital
DESCRIPTION:
URL:https://dcmusicstudio.com/event/halloween-recital-5/
LOCATION:Da Capo Music Studio\, 870 N. Main Street\, Elburn\, IL\, 60119\, United States
CATEGORIES:Student Recital
END:VEVENT
BEGIN:VEVENT
DTSTART;TZID=UTC:20171029T120000
DTEND;TZID=UTC:20171029T130000
DTSTAMP:20260419T174524
CREATED:20170922T164458Z
LAST-MODIFIED:20170922T164458Z
UID:926-1509278400-1509282000@dcmusicstudio.com
SUMMARY:Halloween Recital
DESCRIPTION:
URL:https://dcmusicstudio.com/event/halloween-recital-4/
LOCATION:Da Capo Music Studio\, 870 N. Main Street\, Elburn\, IL\, 60119\, United States
CATEGORIES:Student Recital
ATTACH;FMTTYPE=image/jpeg:https://dcmusicstudio.com/wp-content/uploads/2017/09/IMG_0954.jpg
END:VEVENT
BEGIN:VEVENT
DTSTART;TZID=UTC:20171028T183000
DTEND;TZID=UTC:20171028T193000
DTSTAMP:20260419T174524
CREATED:20170922T164317Z
LAST-MODIFIED:20170922T164317Z
UID:924-1509215400-1509219000@dcmusicstudio.com
SUMMARY:Halloween Recital
DESCRIPTION:
URL:https://dcmusicstudio.com/event/halloween-recital-3/
LOCATION:Da Capo Music Studio\, 870 N. Main Street\, Elburn\, IL\, 60119\, United States
CATEGORIES:Student Recital
END:VEVENT
BEGIN:VEVENT
DTSTART;TZID=UTC:20171028T170000
DTEND;TZID=UTC:20171028T180000
DTSTAMP:20260419T174524
CREATED:20170922T164220Z
LAST-MODIFIED:20170922T164220Z
UID:922-1509210000-1509213600@dcmusicstudio.com
SUMMARY:Halloween Recital
DESCRIPTION:
URL:https://dcmusicstudio.com/event/halloween-recital-2/
LOCATION:IL
CATEGORIES:Student Recital
END:VEVENT
BEGIN:VEVENT
DTSTART;TZID=UTC:20171028T153000
DTEND;TZID=UTC:20171028T163000
DTSTAMP:20260419T174524
CREATED:20170922T164031Z
LAST-MODIFIED:20170922T164114Z
UID:918-1509204600-1509208200@dcmusicstudio.com
SUMMARY:Halloween Recital
DESCRIPTION:
URL:https://dcmusicstudio.com/event/halloween-recital/
LOCATION:Da Capo Music Studio\, 870 N. Main Street\, Elburn\, IL\, 60119\, United States
CATEGORIES:Student Recital
ATTACH;FMTTYPE=image/jpeg:https://dcmusicstudio.com/wp-content/uploads/2017/09/IMG_0954.jpg
END:VEVENT
BEGIN:VEVENT
DTSTART;TZID=UTC:20170924T120000
DTEND;TZID=UTC:20170924T130000
DTSTAMP:20260419T174524
CREATED:20170922T163723Z
LAST-MODIFIED:20170922T165033Z
UID:916-1506254400-1506258000@dcmusicstudio.com
SUMMARY:Student Recital
DESCRIPTION:
URL:https://dcmusicstudio.com/event/student-recital-2/
LOCATION:Da Capo Music Studio\, 870 N. Main Street\, Elburn\, IL\, 60119\, United States
END:VEVENT
BEGIN:VEVENT
DTSTART;TZID=UTC:20170910T100000
DTEND;TZID=UTC:20170910T140000
DTSTAMP:20260419T174524
CREATED:20170426T182642Z
LAST-MODIFIED:20170426T182642Z
UID:901-1505037600-1505052000@dcmusicstudio.com
SUMMARY:Folks On Spokes
DESCRIPTION:
URL:https://dcmusicstudio.com/event/folks-on-spokes/
LOCATION:IL
END:VEVENT
BEGIN:VEVENT
DTSTART;VALUE=DATE:20170519
DTEND;VALUE=DATE:20170602
DTSTAMP:20260419T174524
CREATED:20170426T182448Z
LAST-MODIFIED:20170426T182517Z
UID:898-1495152000-1496361599@dcmusicstudio.com
SUMMARY:Studio Closed
DESCRIPTION:Da Capo Music Studio will be closed May 19 through June 1.
URL:https://dcmusicstudio.com/event/studio-closed-3/
LOCATION:Da Capo Music Studio\, 870 N. Main Street\, Elburn\, IL\, 60119\, United States
CATEGORIES:Studio Closings
END:VEVENT
BEGIN:VEVENT
DTSTART;VALUE=DATE:20170507
DTEND;VALUE=DATE:20170508
DTSTAMP:20260419T174524
CREATED:20170426T182121Z
LAST-MODIFIED:20170426T182121Z
UID:894-1494115200-1494201599@dcmusicstudio.com
SUMMARY:Student Recital
DESCRIPTION:Student Recitals will be held at 11:30am\, 1:00pm\, and 2:30pm.
URL:https://dcmusicstudio.com/event/student-recital/
LOCATION:Da Capo Music Studio\, 870 N. Main Street\, Elburn\, IL\, 60119\, United States
CATEGORIES:Student Recital
END:VEVENT
BEGIN:VEVENT
DTSTART;TZID=UTC:20170506T170000
DTEND;TZID=UTC:20170506T180000
DTSTAMP:20260419T174524
CREATED:20170426T182303Z
LAST-MODIFIED:20170426T182303Z
UID:896-1494090000-1494093600@dcmusicstudio.com
SUMMARY:Rachel Lowe Solo Flute Recital
DESCRIPTION:
URL:https://dcmusicstudio.com/event/rachel-lowe-solo-flute-recital/
LOCATION:Da Capo Music Studio\, 870 N. Main Street\, Elburn\, IL\, 60119\, United States
CATEGORIES:Student Recital
END:VEVENT
BEGIN:VEVENT
DTSTART;VALUE=DATE:20161227
DTEND;VALUE=DATE:20170104
DTSTAMP:20260419T174524
CREATED:20160712T190308Z
LAST-MODIFIED:20160712T190308Z
UID:730-1482796800-1483487999@dcmusicstudio.com
SUMMARY:Studio Closed
DESCRIPTION:
URL:https://dcmusicstudio.com/event/studio-closing/
LOCATION:Da Capo Music Studio\, 870 N. Main Street\, Elburn\, IL\, 60119\, United States
CATEGORIES:Studio Closings
END:VEVENT
BEGIN:VEVENT
DTSTART;VALUE=DATE:20161210
DTEND;VALUE=DATE:20161212
DTSTAMP:20260419T174524
CREATED:20160712T185626Z
LAST-MODIFIED:20160712T185626Z
UID:725-1481328000-1481500799@dcmusicstudio.com
SUMMARY:December 2016 Recital
DESCRIPTION:
URL:https://dcmusicstudio.com/event/december-2016-recital/
LOCATION:Da Capo Music Studio\, 870 N. Main Street\, Elburn\, IL\, 60119\, United States
CATEGORIES:Student Recital
END:VEVENT
BEGIN:VEVENT
DTSTART;VALUE=DATE:20161031
DTEND;VALUE=DATE:20161101
DTSTAMP:20260419T174524
CREATED:20160712T190002Z
LAST-MODIFIED:20160712T190002Z
UID:729-1477872000-1477958399@dcmusicstudio.com
SUMMARY:Studio Closed
DESCRIPTION:
URL:https://dcmusicstudio.com/event/studio-closed/
LOCATION:Da Capo Music Studio\, 870 N. Main Street\, Elburn\, IL\, 60119\, United States
CATEGORIES:Studio Closings
END:VEVENT
END:VCALENDAR